BEGIN:VCALENDAR
VERSION:2.0
PRODID:-//Športové otužovanie &amp; Diaľkové plávanie - ECPv6.15.20//NONSGML v1.0//EN
CALSCALE:GREGORIAN
METHOD:PUBLISH
X-WR-CALNAME:Športové otužovanie &amp; Diaľkové plávanie
X-ORIGINAL-URL:https://sportoveotuzovanie.sk
X-WR-CALDESC:Udalosti pre Športové otužovanie &amp; Diaľkové plávanie
REFRESH-INTERVAL;VALUE=DURATION:PT1H
X-Robots-Tag:noindex
X-PUBLISHED-TTL:PT1H
BEGIN:VTIMEZONE
TZID:Europe/Bratislava
BEGIN:DAYLIGHT
TZOFFSETFROM:+0100
TZOFFSETTO:+0200
TZNAME:CEST
DTSTART:20240331T010000
END:DAYLIGHT
BEGIN:STANDARD
TZOFFSETFROM:+0200
TZOFFSETTO:+0100
TZNAME:CET
DTSTART:20241027T010000
END:STANDARD
BEGIN:DAYLIGHT
TZOFFSETFROM:+0100
TZOFFSETTO:+0200
TZNAME:CEST
DTSTART:20250330T010000
END:DAYLIGHT
BEGIN:STANDARD
TZOFFSETFROM:+0200
TZOFFSETTO:+0100
TZNAME:CET
DTSTART:20251026T010000
END:STANDARD
BEGIN:DAYLIGHT
TZOFFSETFROM:+0100
TZOFFSETTO:+0200
TZNAME:CEST
DTSTART:20260329T010000
END:DAYLIGHT
BEGIN:STANDARD
TZOFFSETFROM:+0200
TZOFFSETTO:+0100
TZNAME:CET
DTSTART:20261025T010000
END:STANDARD
END:VTIMEZONE
BEGIN:VEVENT
DTSTART;TZID=Europe/Bratislava:20251115T080000
DTEND;TZID=Europe/Bratislava:20251115T170000
DTSTAMP:20260426T015212
CREATED:20251001T130055Z
LAST-MODIFIED:20251114T204500Z
UID:2848-1763193600-1763226000@sportoveotuzovanie.sk
SUMMARY:2. Kúpalisko Dúha PARTIZÁNSKE - Bazén 50m
DESCRIPTION:Kúpalisko Dúha PARTIZÁNSKE – Bazén 50m \nPROPOZÍCIE PRETEKOV_Partizánske_15.11.2025 \nP02_Partizánske_Čestné prehlásenie ZP_2025-2026
URL:https://sportoveotuzovanie.sk/event/2-partizanske-bazen-25m/
END:VEVENT
END:VCALENDAR