BEGIN:VCALENDAR
VERSION:2.0
PRODID:-//Športové otužovanie &amp; Diaľkové plávanie - ECPv6.15.20//NONSGML v1.0//EN
CALSCALE:GREGORIAN
METHOD:PUBLISH
X-WR-CALNAME:Športové otužovanie &amp; Diaľkové plávanie
X-ORIGINAL-URL:https://sportoveotuzovanie.sk
X-WR-CALDESC:Udalosti pre Športové otužovanie &amp; Diaľkové plávanie
REFRESH-INTERVAL;VALUE=DURATION:PT1H
X-Robots-Tag:noindex
X-PUBLISHED-TTL:PT1H
BEGIN:VTIMEZONE
TZID:Europe/Bratislava
BEGIN:DAYLIGHT
TZOFFSETFROM:+0100
TZOFFSETTO:+0200
TZNAME:CEST
DTSTART:20240331T010000
END:DAYLIGHT
BEGIN:STANDARD
TZOFFSETFROM:+0200
TZOFFSETTO:+0100
TZNAME:CET
DTSTART:20241027T010000
END:STANDARD
BEGIN:DAYLIGHT
TZOFFSETFROM:+0100
TZOFFSETTO:+0200
TZNAME:CEST
DTSTART:20250330T010000
END:DAYLIGHT
BEGIN:STANDARD
TZOFFSETFROM:+0200
TZOFFSETTO:+0100
TZNAME:CET
DTSTART:20251026T010000
END:STANDARD
BEGIN:DAYLIGHT
TZOFFSETFROM:+0100
TZOFFSETTO:+0200
TZNAME:CEST
DTSTART:20260329T010000
END:DAYLIGHT
BEGIN:STANDARD
TZOFFSETFROM:+0200
TZOFFSETTO:+0100
TZNAME:CET
DTSTART:20261025T010000
END:STANDARD
END:VTIMEZONE
BEGIN:VEVENT
DTSTART;TZID=Europe/Bratislava:20251206T080000
DTEND;TZID=Europe/Bratislava:20251206T170000
DTSTAMP:20260425T225744
CREATED:20250926T212931Z
LAST-MODIFIED:20251020T130621Z
UID:2683-1765008000-1765040400@sportoveotuzovanie.sk
SUMMARY:4. Rekreačný areál DELŇA - PREŠOV
DESCRIPTION:Rekreačný areál DELŇA – PREŠOV
URL:https://sportoveotuzovanie.sk/event/3-presov-delna/
END:VEVENT
BEGIN:VEVENT
DTSTART;TZID=Europe/Bratislava:20251213T072000
DTEND;TZID=Europe/Bratislava:20251213T123000
DTSTAMP:20260425T225744
CREATED:20251108T203625Z
LAST-MODIFIED:20251108T203625Z
UID:3005-1765610400-1765629000@sportoveotuzovanie.sk
SUMMARY:ImpulSwim4VladSwim challenge 2025
DESCRIPTION:Ahojte plavci\, \nS radosťou Vás prednostne pozývame na výnimočné podujatie svojho druhu v diaľkovom plávaní. \nSte pripravený na ImpulSwim4Vladswim 2025? \nAko dobre viete\, prepájame plavcov naprieč kategóriami\, krajinami\, mestami v jeden súťažný deň spoločne s Vladswim Challenge v Austrálii. \nNachystali sme pre Vás niekoľko noviniek. Predstavujeme Vám našu novú stránku (www.impulswim4vladswim.com) a pripravte sa na deň plný športových zážitkov a skvelej atmosféry. Pretože počet plavcov pre jednotlivé kategórie je limitovaný posielam Vám možnosť prednostnej registrácie a zabezpečenia si vlastného miesta.  Budete mať možnosť ako minulý rok\, zaplávať si trate Delfina swimm 2500m\, Speedo swimm 5000m a Engine swimm 10 000m. \nAko novinku sme zaradili BRIDGE swim – 4 hodiny nonstop\, nepretržitého plávania\, určeného pre zdatných plavcov\, tých ktorí si potrebujú overiť\, alebo sa uistiť pred svojim diaľkoplaveckým výkonom. \nČaká na nás : \n–       Celý bazén len pre nás \n–       Meranie vzdialenosti každých 100 metrov \n–       Pláva sa v 50m bazéne\, kde máme k dispozícii 8 plaveckých dráh \n–       Počet plavcov v dráhe pre jednotlivé rozplavby je 6 – 8 plavcov (pohodlnosť pri plávaní) \n–       Možnosť tréningového zmerania si času a otestovania si stravovacieho režimu \n–       Bezpečné plávanie pod zdravotníckym dozorom \n–       Skvelý kolektív pozitívne naladených plavcov\, dobrovoľníkov a organizátorov \nOficiálna propagácia pre širokú verejnosť a plavecké kluby bude spustená od pondelka 10.11.2025. Využite preto príležitosť prednostnej registrovať ešte predtým\, ako bude registrácia spustená oficiálne. \nRegistruj sa tu : https//www.impulswim4vladswim.com/ . \nVšetko si starostlivo prečítaj\, a ak budeš potrebovať viac informácií\, píš na info@impulswim4vladswim.com\, alebo volaj na 0918 750 798. \nNezabudni\, že počet plaveckých miest pri každej vzdialenosti je limitovaný!!! \nTešíme sa na Vás\, \nIvo Obrtanec a celý kolektív Impulswim o.z.
URL:https://sportoveotuzovanie.sk/event/impulswim4vladswim-challenge-2025/
LOCATION:Plaváreň Štiavničky\, 974 01 Banská Bystrica\, Plaváreň Štiavničky\, Banská Bystrica\, 974 01\, Slovakia (Slovak Republic)
ORGANIZER;CN="OZ Impulswim o.z.":MAILTO:impulswim@gmail.com
END:VEVENT
END:VCALENDAR