BEGIN:VCALENDAR
VERSION:2.0
PRODID:-//Športové otužovanie &amp; Diaľkové plávanie - ECPv6.15.20//NONSGML v1.0//EN
CALSCALE:GREGORIAN
METHOD:PUBLISH
X-WR-CALNAME:Športové otužovanie &amp; Diaľkové plávanie
X-ORIGINAL-URL:https://sportoveotuzovanie.sk
X-WR-CALDESC:Udalosti pre Športové otužovanie &amp; Diaľkové plávanie
REFRESH-INTERVAL;VALUE=DURATION:PT1H
X-Robots-Tag:noindex
X-PUBLISHED-TTL:PT1H
BEGIN:VTIMEZONE
TZID:Europe/Bratislava
BEGIN:DAYLIGHT
TZOFFSETFROM:+0100
TZOFFSETTO:+0200
TZNAME:CEST
DTSTART:20250330T010000
END:DAYLIGHT
BEGIN:STANDARD
TZOFFSETFROM:+0200
TZOFFSETTO:+0100
TZNAME:CET
DTSTART:20251026T010000
END:STANDARD
BEGIN:DAYLIGHT
TZOFFSETFROM:+0100
TZOFFSETTO:+0200
TZNAME:CEST
DTSTART:20260329T010000
END:DAYLIGHT
BEGIN:STANDARD
TZOFFSETFROM:+0200
TZOFFSETTO:+0100
TZNAME:CET
DTSTART:20261025T010000
END:STANDARD
BEGIN:DAYLIGHT
TZOFFSETFROM:+0100
TZOFFSETTO:+0200
TZNAME:CEST
DTSTART:20270328T010000
END:DAYLIGHT
BEGIN:STANDARD
TZOFFSETFROM:+0200
TZOFFSETTO:+0100
TZNAME:CET
DTSTART:20271031T010000
END:STANDARD
END:VTIMEZONE
BEGIN:VEVENT
DTSTART;TZID=Europe/Bratislava:20260117T080000
DTEND;TZID=Europe/Bratislava:20260117T170000
DTSTAMP:20260425T212613
CREATED:20250926T213007Z
LAST-MODIFIED:20251020T130648Z
UID:2685-1768636800-1768669200@sportoveotuzovanie.sk
SUMMARY:5. Ranč na Striebornom Jazere - GALANTA
DESCRIPTION:RANČ NA STRIEBORNOM JAZERE – GALANTA
URL:https://sportoveotuzovanie.sk/event/4-ranc-na-striebornom-jazere/
END:VEVENT
BEGIN:VEVENT
DTSTART;TZID=Europe/Bratislava:20260124T080000
DTEND;TZID=Europe/Bratislava:20260124T170000
DTSTAMP:20260425T212613
CREATED:20250926T213046Z
LAST-MODIFIED:20260108T080858Z
UID:2687-1769241600-1769274000@sportoveotuzovanie.sk
SUMMARY:6. Zlaté Piesky - WAKELAKE - zrušené
DESCRIPTION:ZLATÉ PIESKY – WAKELAKE
URL:https://sportoveotuzovanie.sk/event/5-zlate-piesky-wakelake/
END:VEVENT
END:VCALENDAR