BEGIN:VCALENDAR
VERSION:2.0
PRODID:-//Športové otužovanie &amp; Diaľkové plávanie - ECPv6.15.20//NONSGML v1.0//EN
CALSCALE:GREGORIAN
METHOD:PUBLISH
X-ORIGINAL-URL:https://sportoveotuzovanie.sk
X-WR-CALDESC:Udalosti pre Športové otužovanie &amp; Diaľkové plávanie
REFRESH-INTERVAL;VALUE=DURATION:PT1H
X-Robots-Tag:noindex
X-PUBLISHED-TTL:PT1H
BEGIN:VTIMEZONE
TZID:Europe/Bratislava
BEGIN:DAYLIGHT
TZOFFSETFROM:+0100
TZOFFSETTO:+0200
TZNAME:CEST
DTSTART:20240331T010000
END:DAYLIGHT
BEGIN:STANDARD
TZOFFSETFROM:+0200
TZOFFSETTO:+0100
TZNAME:CET
DTSTART:20241027T010000
END:STANDARD
BEGIN:DAYLIGHT
TZOFFSETFROM:+0100
TZOFFSETTO:+0200
TZNAME:CEST
DTSTART:20250330T010000
END:DAYLIGHT
BEGIN:STANDARD
TZOFFSETFROM:+0200
TZOFFSETTO:+0100
TZNAME:CET
DTSTART:20251026T010000
END:STANDARD
BEGIN:DAYLIGHT
TZOFFSETFROM:+0100
TZOFFSETTO:+0200
TZNAME:CEST
DTSTART:20260329T010000
END:DAYLIGHT
BEGIN:STANDARD
TZOFFSETFROM:+0200
TZOFFSETTO:+0100
TZNAME:CET
DTSTART:20261025T010000
END:STANDARD
BEGIN:DAYLIGHT
TZOFFSETFROM:+0100
TZOFFSETTO:+0200
TZNAME:CEST
DTSTART:20270328T010000
END:DAYLIGHT
BEGIN:STANDARD
TZOFFSETFROM:+0200
TZOFFSETTO:+0100
TZNAME:CET
DTSTART:20271031T010000
END:STANDARD
END:VTIMEZONE
BEGIN:VEVENT
DTSTART;TZID=Europe/Bratislava:20251213T072000
DTEND;TZID=Europe/Bratislava:20251213T123000
DTSTAMP:20260426T062459
CREATED:20251108T203625Z
LAST-MODIFIED:20251108T203625Z
UID:3005-1765610400-1765629000@sportoveotuzovanie.sk
SUMMARY:ImpulSwim4VladSwim challenge 2025
DESCRIPTION:Ahojte plavci\, \nS radosťou Vás prednostne pozývame na výnimočné podujatie svojho druhu v diaľkovom plávaní. \nSte pripravený na ImpulSwim4Vladswim 2025? \nAko dobre viete\, prepájame plavcov naprieč kategóriami\, krajinami\, mestami v jeden súťažný deň spoločne s Vladswim Challenge v Austrálii. \nNachystali sme pre Vás niekoľko noviniek. Predstavujeme Vám našu novú stránku (www.impulswim4vladswim.com) a pripravte sa na deň plný športových zážitkov a skvelej atmosféry. Pretože počet plavcov pre jednotlivé kategórie je limitovaný posielam Vám možnosť prednostnej registrácie a zabezpečenia si vlastného miesta.  Budete mať možnosť ako minulý rok\, zaplávať si trate Delfina swimm 2500m\, Speedo swimm 5000m a Engine swimm 10 000m. \nAko novinku sme zaradili BRIDGE swim – 4 hodiny nonstop\, nepretržitého plávania\, určeného pre zdatných plavcov\, tých ktorí si potrebujú overiť\, alebo sa uistiť pred svojim diaľkoplaveckým výkonom. \nČaká na nás : \n–       Celý bazén len pre nás \n–       Meranie vzdialenosti každých 100 metrov \n–       Pláva sa v 50m bazéne\, kde máme k dispozícii 8 plaveckých dráh \n–       Počet plavcov v dráhe pre jednotlivé rozplavby je 6 – 8 plavcov (pohodlnosť pri plávaní) \n–       Možnosť tréningového zmerania si času a otestovania si stravovacieho režimu \n–       Bezpečné plávanie pod zdravotníckym dozorom \n–       Skvelý kolektív pozitívne naladených plavcov\, dobrovoľníkov a organizátorov \nOficiálna propagácia pre širokú verejnosť a plavecké kluby bude spustená od pondelka 10.11.2025. Využite preto príležitosť prednostnej registrovať ešte predtým\, ako bude registrácia spustená oficiálne. \nRegistruj sa tu : https//www.impulswim4vladswim.com/ . \nVšetko si starostlivo prečítaj\, a ak budeš potrebovať viac informácií\, píš na info@impulswim4vladswim.com\, alebo volaj na 0918 750 798. \nNezabudni\, že počet plaveckých miest pri každej vzdialenosti je limitovaný!!! \nTešíme sa na Vás\, \nIvo Obrtanec a celý kolektív Impulswim o.z.
URL:https://sportoveotuzovanie.sk/event/impulswim4vladswim-challenge-2025/
LOCATION:Plaváreň Štiavničky\, 974 01 Banská Bystrica\, Plaváreň Štiavničky\, Banská Bystrica\, 974 01\, Slovakia (Slovak Republic)
ORGANIZER;CN="OZ Impulswim o.z.":MAILTO:impulswim@gmail.com
END:VEVENT
BEGIN:VEVENT
DTSTART;TZID=Europe/Bratislava:20260117T080000
DTEND;TZID=Europe/Bratislava:20260117T170000
DTSTAMP:20260426T062459
CREATED:20250926T213007Z
LAST-MODIFIED:20251020T130648Z
UID:2685-1768636800-1768669200@sportoveotuzovanie.sk
SUMMARY:5. Ranč na Striebornom Jazere - GALANTA
DESCRIPTION:RANČ NA STRIEBORNOM JAZERE – GALANTA
URL:https://sportoveotuzovanie.sk/event/4-ranc-na-striebornom-jazere/
END:VEVENT
BEGIN:VEVENT
DTSTART;TZID=Europe/Bratislava:20260124T080000
DTEND;TZID=Europe/Bratislava:20260124T170000
DTSTAMP:20260426T062459
CREATED:20250926T213046Z
LAST-MODIFIED:20260108T080858Z
UID:2687-1769241600-1769274000@sportoveotuzovanie.sk
SUMMARY:6. Zlaté Piesky - WAKELAKE - zrušené
DESCRIPTION:ZLATÉ PIESKY – WAKELAKE
URL:https://sportoveotuzovanie.sk/event/5-zlate-piesky-wakelake/
END:VEVENT
BEGIN:VEVENT
DTSTART;TZID=Europe/Bratislava:20260221T080000
DTEND;TZID=Europe/Bratislava:20260221T170000
DTSTAMP:20260426T062459
CREATED:20250926T213121Z
LAST-MODIFIED:20251001T130306Z
UID:2689-1771660800-1771693200@sportoveotuzovanie.sk
SUMMARY:7. Dunajská Streda
DESCRIPTION:DUNAJSKÁ STREDA
URL:https://sportoveotuzovanie.sk/event/6-dunajska-streda/
END:VEVENT
BEGIN:VEVENT
DTSTART;TZID=Europe/Bratislava:20260228T080000
DTEND;TZID=Europe/Bratislava:20260228T170000
DTSTAMP:20260426T062459
CREATED:20250926T213201Z
LAST-MODIFIED:20251020T130737Z
UID:2691-1772265600-1772298000@sportoveotuzovanie.sk
SUMMARY:8. Slnečné Jazerá SENEC
DESCRIPTION:SLNEČNÉ JAZERÁ SENEC
URL:https://sportoveotuzovanie.sk/event/7-slnecne-jazera-senec/
END:VEVENT
BEGIN:VEVENT
DTSTART;TZID=Europe/Bratislava:20260314T080000
DTEND;TZID=Europe/Bratislava:20260314T170000
DTSTAMP:20260426T062459
CREATED:20250926T213237Z
LAST-MODIFIED:20251001T130349Z
UID:2693-1773475200-1773507600@sportoveotuzovanie.sk
SUMMARY:9. Domaša - Dobrá
DESCRIPTION:DOMAŠA – DOBRÁ
URL:https://sportoveotuzovanie.sk/event/8-domasa-dobra/
END:VEVENT
BEGIN:VEVENT
DTSTART;TZID=Europe/Bratislava:20260321T080000
DTEND;TZID=Europe/Bratislava:20260321T170000
DTSTAMP:20260426T062459
CREATED:20250926T213315Z
LAST-MODIFIED:20251001T130407Z
UID:2695-1774080000-1774112400@sportoveotuzovanie.sk
SUMMARY:10. Rybníky Opatovce
DESCRIPTION:RYBNÍKY OPATOVCE
URL:https://sportoveotuzovanie.sk/event/9-rybniky-opatovce/
END:VEVENT
BEGIN:VEVENT
DTSTART;TZID=Europe/Bratislava:20260328T080000
DTEND;TZID=Europe/Bratislava:20260328T170000
DTSTAMP:20260426T062459
CREATED:20250926T213419Z
LAST-MODIFIED:20260303T112023Z
UID:2697-1774684800-1774717200@sportoveotuzovanie.sk
SUMMARY:11. Nové Košariská Rovinka (Veľké Košariská) - zrušené
DESCRIPTION:NOVÉ KOŠARISKÁ ROVINKA (VEĽKÉ KOŠARISKÁ)
URL:https://sportoveotuzovanie.sk/event/10-nove-kosariska-rovinka-velke-kosariska/
END:VEVENT
BEGIN:VEVENT
DTSTART;TZID=Europe/Bratislava:20260411T080000
DTEND;TZID=Europe/Bratislava:20260411T170000
DTSTAMP:20260426T062459
CREATED:20250926T213457Z
LAST-MODIFIED:20251001T130440Z
UID:2699-1775894400-1775926800@sportoveotuzovanie.sk
SUMMARY:12. Malé Košariská
DESCRIPTION:MALÉ KOŠARISKÁ
URL:https://sportoveotuzovanie.sk/event/11-male-kosariska/
END:VEVENT
BEGIN:VEVENT
DTSTART;TZID=Europe/Bratislava:20260502T120000
DTEND;TZID=Europe/Bratislava:20260502T170000
DTSTAMP:20260426T062459
CREATED:20260416T135247Z
LAST-MODIFIED:20260416T135247Z
UID:3450-1777723200-1777741200@sportoveotuzovanie.sk
SUMMARY:Plaveckú hodinovku na Podhradskom mori 2026
DESCRIPTION:Plaveckú hodinovku na Podhradskom mori 2026
URL:https://sportoveotuzovanie.sk/event/plavecku-hodinovku-na-podhradskom-mori-2026/
END:VEVENT
BEGIN:VEVENT
DTSTART;TZID=Europe/Bratislava:20260517T100000
DTEND;TZID=Europe/Bratislava:20260517T110000
DTSTAMP:20260426T062459
CREATED:20260421T220852Z
LAST-MODIFIED:20260421T221108Z
UID:3461-1779012000-1779015600@sportoveotuzovanie.sk
SUMMARY:60 minút plávania s Tuleňmi
DESCRIPTION:Jarná hodinovka na Zelenej vode\, plávanie na otvorenej vode 17.5.2026 o 10:00 hod. Koliba pláž \, Zelená voda
URL:https://sportoveotuzovanie.sk/event/60-minut-plavania-s-tulenmi/
END:VEVENT
END:VCALENDAR