BEGIN:VCALENDAR
VERSION:2.0
PRODID:-//Športové otužovanie &amp; Diaľkové plávanie - ECPv6.15.20//NONSGML v1.0//EN
CALSCALE:GREGORIAN
METHOD:PUBLISH
X-WR-CALNAME:Športové otužovanie &amp; Diaľkové plávanie
X-ORIGINAL-URL:https://sportoveotuzovanie.sk
X-WR-CALDESC:Udalosti pre Športové otužovanie &amp; Diaľkové plávanie
REFRESH-INTERVAL;VALUE=DURATION:PT1H
X-Robots-Tag:noindex
X-PUBLISHED-TTL:PT1H
BEGIN:VTIMEZONE
TZID:Europe/Bratislava
BEGIN:DAYLIGHT
TZOFFSETFROM:+0100
TZOFFSETTO:+0200
TZNAME:CEST
DTSTART:20190331T010000
END:DAYLIGHT
BEGIN:STANDARD
TZOFFSETFROM:+0200
TZOFFSETTO:+0100
TZNAME:CET
DTSTART:20191027T010000
END:STANDARD
BEGIN:DAYLIGHT
TZOFFSETFROM:+0100
TZOFFSETTO:+0200
TZNAME:CEST
DTSTART:20200329T010000
END:DAYLIGHT
BEGIN:STANDARD
TZOFFSETFROM:+0200
TZOFFSETTO:+0100
TZNAME:CET
DTSTART:20201025T010000
END:STANDARD
BEGIN:DAYLIGHT
TZOFFSETFROM:+0100
TZOFFSETTO:+0200
TZNAME:CEST
DTSTART:20210328T010000
END:DAYLIGHT
BEGIN:STANDARD
TZOFFSETFROM:+0200
TZOFFSETTO:+0100
TZNAME:CET
DTSTART:20211031T010000
END:STANDARD
BEGIN:DAYLIGHT
TZOFFSETFROM:+0100
TZOFFSETTO:+0200
TZNAME:CEST
DTSTART:20220327T010000
END:DAYLIGHT
BEGIN:STANDARD
TZOFFSETFROM:+0200
TZOFFSETTO:+0100
TZNAME:CET
DTSTART:20221030T010000
END:STANDARD
BEGIN:DAYLIGHT
TZOFFSETFROM:+0100
TZOFFSETTO:+0200
TZNAME:CEST
DTSTART:20230326T010000
END:DAYLIGHT
BEGIN:STANDARD
TZOFFSETFROM:+0200
TZOFFSETTO:+0100
TZNAME:CET
DTSTART:20231029T010000
END:STANDARD
BEGIN:DAYLIGHT
TZOFFSETFROM:+0100
TZOFFSETTO:+0200
TZNAME:CEST
DTSTART:20240331T010000
END:DAYLIGHT
BEGIN:STANDARD
TZOFFSETFROM:+0200
TZOFFSETTO:+0100
TZNAME:CET
DTSTART:20241027T010000
END:STANDARD
BEGIN:DAYLIGHT
TZOFFSETFROM:+0100
TZOFFSETTO:+0200
TZNAME:CEST
DTSTART:20250330T010000
END:DAYLIGHT
BEGIN:STANDARD
TZOFFSETFROM:+0200
TZOFFSETTO:+0100
TZNAME:CET
DTSTART:20251026T010000
END:STANDARD
END:VTIMEZONE
BEGIN:VEVENT
DTSTART;TZID=Europe/Bratislava:20240413T080000
DTEND;TZID=Europe/Bratislava:20240413T170000
DTSTAMP:20260426T050258
CREATED:20240106T084629Z
LAST-MODIFIED:20240410T201500Z
UID:2453-1712995200-1713027600@sportoveotuzovanie.sk
SUMMARY:10. preteky RYBNÍKY OPATOVCE 13.04.2024
DESCRIPTION:Rybníky Opatovce_Čestné prehlásenie účastníka ZP_2023-2024 \nPropozície_13.4.2024 Rybníky Opatovce
URL:https://sportoveotuzovanie.sk/event/10-preteky-rybniky-opatovce-23-03-2024/
END:VEVENT
BEGIN:VEVENT
DTSTART;TZID=Europe/Bratislava:20240316T080000
DTEND;TZID=Europe/Bratislava:20240316T170000
DTSTAMP:20260426T050258
CREATED:20240106T084512Z
LAST-MODIFIED:20240313T091138Z
UID:2451-1710576000-1710608400@sportoveotuzovanie.sk
SUMMARY:9. preteky PREŠOV - DEĽŇA 16.3.2024
DESCRIPTION:Propozicie
URL:https://sportoveotuzovanie.sk/event/9-preteky-presov-delna-16-3-2024/
END:VEVENT
BEGIN:VEVENT
DTSTART;TZID=Europe/Bratislava:20240302T080000
DTEND;TZID=Europe/Bratislava:20240302T170000
DTSTAMP:20260426T050258
CREATED:20240106T084428Z
LAST-MODIFIED:20240106T084428Z
UID:2449-1709366400-1709398800@sportoveotuzovanie.sk
SUMMARY:8. preteky SLNEČNÉ JAZERÁ SENEC 02.03.2024
DESCRIPTION:
URL:https://sportoveotuzovanie.sk/event/8-preteky-slnecne-jazera-senec-02-03-2024/
LOCATION:Senec\, 6C76+V9 Senec\, Senec\, 903 01\, Slovenská republika
END:VEVENT
BEGIN:VEVENT
DTSTART;TZID=Europe/Bratislava:20240224T080000
DTEND;TZID=Europe/Bratislava:20240224T170000
DTSTAMP:20260426T050258
CREATED:20240106T084213Z
LAST-MODIFIED:20240122T105640Z
UID:2445-1708761600-1708794000@sportoveotuzovanie.sk
SUMMARY:7. preteky DUNAJSKÁ STREDA 24.2.2024
DESCRIPTION:Plagát Dunajská Streda – 24.02.2024 \nPropozície Dunajská Streda – 24.02.2024 \nPrehlásenie Dunajská Streda – 24.02.2024
URL:https://sportoveotuzovanie.sk/event/7-preteky-dunajska-streda-7-2-2024/
LOCATION:Dunajska Streda\, Gabčíkovská cesta 237/38\, Dunajská Streda\, 929 01\, Slovenská republika
END:VEVENT
BEGIN:VEVENT
DTSTART;TZID=Europe/Bratislava:20240127T080000
DTEND;TZID=Europe/Bratislava:20240127T170000
DTSTAMP:20260426T050258
CREATED:20240106T084126Z
LAST-MODIFIED:20240122T104648Z
UID:2443-1706342400-1706374800@sportoveotuzovanie.sk
SUMMARY:6. preteky ZLATÉ PIESKY 27.1.2024
DESCRIPTION:Plagát Zlaté Piesky – 27.01.2024 \nPropozície Zlaté Piesky – 27.01.2024 \nPrehlásenie Zlaté Piesky – 27.01.2024
URL:https://sportoveotuzovanie.sk/event/6-preteky-zlate-piesky-27-1-2024/
LOCATION:Zlaté piesky Wake Lake\, 55QV+PP Bratislava\, Bratislava\, Slovenská republika
END:VEVENT
BEGIN:VEVENT
DTSTART;TZID=Europe/Bratislava:20240120T080000
DTEND;TZID=Europe/Bratislava:20240120T170000
DTSTAMP:20260426T050258
CREATED:20240106T083947Z
LAST-MODIFIED:20240111T080923Z
UID:2441-1705737600-1705770000@sportoveotuzovanie.sk
SUMMARY:5. preteky NOVÉ KOŠARISKÁ 20.1.2024
DESCRIPTION:  \nPlagát Nové Košariská – 20.01.2024 \nPropozície Nové Košariská – 20.01.2024 \nPrehlásenie Nové Košariská – 20.01.2024
URL:https://sportoveotuzovanie.sk/event/5-preteky-nove-kosariska-20-1-2024/
LOCATION:37XG+7H5 Dunajská Lužná\, Slovakia\, 37XG+7H5 Dunajská Lužná\, Slovakia\, Dunajská Lužná\, Slovenská republika
END:VEVENT
BEGIN:VEVENT
DTSTART;TZID=Europe/Bratislava:20231202T090000
DTEND;TZID=Europe/Bratislava:20231202T170000
DTSTAMP:20260426T050258
CREATED:20231030T215231Z
LAST-MODIFIED:20231030T215231Z
UID:2402-1701507600-1701536400@sportoveotuzovanie.sk
SUMMARY:4. preteky DOMAŠA - DOBRÁ Garden Hotel 2.12.2023
DESCRIPTION:  \nPlagát Domaša – Dobrá Garden Hotel 2.12.2023 \nPropozície Domaša – Dobrá Garden Hotel 2.12.2023 \nČestné prehlásenie Domaša – Dobrá Garden Hotel 2.12.2023
URL:https://sportoveotuzovanie.sk/event/4-preteky-domasa-dobra-garden-hotel-2-12-2023/
LOCATION:Domaša – Dobrá\, Domaša\, Slovenská republika
END:VEVENT
BEGIN:VEVENT
DTSTART;TZID=Europe/Bratislava:20231118T080000
DTEND;TZID=Europe/Bratislava:20231118T170000
DTSTAMP:20260426T050258
CREATED:20231030T214922Z
LAST-MODIFIED:20231113T190156Z
UID:2398-1700294400-1700326800@sportoveotuzovanie.sk
SUMMARY:3. preteky  ORAVSKÁ PRIEHRADA - HOTEL PRÍSTAV 18.11.2023
DESCRIPTION:Plagát Oravská priehrada – Hotel Prístav 18.11.2023 \nPropozície Oravská priehrada – Hotel Prístav 18.11.2023 \nPrehlásenie Oravská priehrada – Hotel Prístav 18.11.2023
URL:https://sportoveotuzovanie.sk/event/3-preteky-oravska-priehrada-hotel-pristav-18-11-2023/
LOCATION:49.38449299526068\, 19.53677918789268
ORGANIZER;CN="Otu%C5%BEilci Orava":MAILTO:oravaotuzilci@oravaotuzilci.sk
END:VEVENT
BEGIN:VEVENT
DTSTART;TZID=Europe/Bratislava:20231111T090000
DTEND;TZID=Europe/Bratislava:20231111T163000
DTSTAMP:20260426T050258
CREATED:20231030T212804Z
LAST-MODIFIED:20231106T202803Z
UID:2388-1699693200-1699720200@sportoveotuzovanie.sk
SUMMARY:2. preteky Lake Side Residence Čierna Voda 11.11.2023
DESCRIPTION:Plagát Lake Side Residence Čierna Voda 11.11.2023 \nPropozície pretekov Lake Side Residence Čierna Voda 11.11.2023 \nČestné prehlásenie Lake Side Residence 11.11.2023
URL:https://sportoveotuzovanie.sk/event/2-preteky-cierna-voda-11-11-2023/
LOCATION:Čierna Voda – Horná Potôň\, 3JP9+96 Horná Potôň\, Horná Potôň\, Slovenská republika
END:VEVENT
BEGIN:VEVENT
DTSTART;TZID=Europe/Bratislava:20231104T080000
DTEND;TZID=Europe/Bratislava:20231104T170000
DTSTAMP:20260426T050258
CREATED:20231024T120826Z
LAST-MODIFIED:20231030T223358Z
UID:2368-1699084800-1699117200@sportoveotuzovanie.sk
SUMMARY:1. preteky Žilina - Bazén 4.11.2023
DESCRIPTION:Plagát Žilina 4.11.2023 \nPropozície pretekov Žilina 4.11.2023 \nČestné prehlásenie Žilina 4.11.2023
URL:https://sportoveotuzovanie.sk/event/1-preteky-zilina-bazen-4-11-2023/
LOCATION:6P7X+7G Žilina\, Vysokoškolákov 8\, Žilina\, 010 08\, Slovenská republika
END:VEVENT
BEGIN:VEVENT
DTSTART;TZID=Europe/Bratislava:20230401T080000
DTEND;TZID=Europe/Bratislava:20230401T170000
DTSTAMP:20260426T050258
CREATED:20230312T184510Z
LAST-MODIFIED:20230315T091410Z
UID:2277-1680336000-1680368400@sportoveotuzovanie.sk
SUMMARY:8. preteky Domaša - Dobrá 1.4.2023
DESCRIPTION:Domasa_PROPOZÍCIE \nDomasa plagat \n  \n 
URL:https://sportoveotuzovanie.sk/event/8-preteky-domasa-dobra/
LOCATION:Domaša – Dobrá\, Domaša\, Slovenská republika
END:VEVENT
BEGIN:VEVENT
DTSTART;TZID=Europe/Bratislava:20230325T083000
DTEND;TZID=Europe/Bratislava:20230325T163000
DTSTAMP:20260426T050258
CREATED:20230312T185246Z
LAST-MODIFIED:20230315T091335Z
UID:2283-1679733000-1679761800@sportoveotuzovanie.sk
SUMMARY:7. preteky Trenčín 25.3.2023
DESCRIPTION:
URL:https://sportoveotuzovanie.sk/event/7-preteky-trencin/
LOCATION:Kemping Rybníky Opatovce\, Kemping Rybníky Opatovce\, Opatovce\, Slovenská republika
END:VEVENT
BEGIN:VEVENT
DTSTART;TZID=Europe/Bratislava:20230304T080000
DTEND;TZID=Europe/Bratislava:20230304T170000
DTSTAMP:20260426T050258
CREATED:20230312T184301Z
LAST-MODIFIED:20230312T185534Z
UID:2275-1677916800-1677949200@sportoveotuzovanie.sk
SUMMARY:6. Preteky Dunajská Streda 4.3.2023
DESCRIPTION:6. Preteky Dunajská Streda
URL:https://sportoveotuzovanie.sk/event/6-preteky-dunajska-streda/
END:VEVENT
BEGIN:VEVENT
DTSTART;TZID=Europe/Bratislava:20230218T090000
DTEND;TZID=Europe/Bratislava:20230218T170000
DTSTAMP:20260426T050258
CREATED:20230114T224657Z
LAST-MODIFIED:20230114T224657Z
UID:2162-1676710800-1676739600@sportoveotuzovanie.sk
SUMMARY:5. preteky Dunajská Lužná - Nové Košariská 18.02.2023
DESCRIPTION:LMVV_SPvZP_2023_plagát \nPropozície pretekov 18.02.2022
URL:https://sportoveotuzovanie.sk/event/5-preteky-dunajska-luzna-nove-kosariska-18-02-2023/
END:VEVENT
BEGIN:VEVENT
DTSTART;TZID=Europe/Bratislava:20230204T090000
DTEND;TZID=Europe/Bratislava:20230204T170000
DTSTAMP:20260426T050258
CREATED:20230114T220835Z
LAST-MODIFIED:20230202T112339Z
UID:2137-1675501200-1675530000@sportoveotuzovanie.sk
SUMMARY:4. preteky L.A. Lackovce\, okr. Humenné - 04.02.2023 ZRUŠENÉ
DESCRIPTION:Kvôli hroziacej veternej smršti zrušené. \n \n04.02.2023_PROPOZÍCIE PRETEKOV_Tučniaky z L.A.
URL:https://sportoveotuzovanie.sk/event/4-preteky-l-a-lackovce-okr-humenne-04-02-2023/
LOCATION:066 01 Lackovce\, Slovenská republika
END:VEVENT
BEGIN:VEVENT
DTSTART;TZID=Europe/Bratislava:20221126T090000
DTEND;TZID=Europe/Bratislava:20221126T163000
DTSTAMP:20260426T050258
CREATED:20221116T074449Z
LAST-MODIFIED:20221116T074449Z
UID:2109-1669453200-1669480200@sportoveotuzovanie.sk
SUMMARY:3. preteky LAKE SIDE RESIDENCE - Čierna voda 26.11.2022
DESCRIPTION:PROPOZÍCIE PRETEKOV Lake Side Residence
URL:https://sportoveotuzovanie.sk/event/3-preteky-lake-side-residence-cierna-voda-26-11-2022/
LOCATION:Čierna Voda – Horná Potôň\, 3JP9+96 Horná Potôň\, Horná Potôň\, Slovenská republika
END:VEVENT
BEGIN:VEVENT
DTSTART;TZID=Europe/Bratislava:20221119T090000
DTEND;TZID=Europe/Bratislava:20221119T163000
DTSTAMP:20260426T050258
CREATED:20221108T105410Z
LAST-MODIFIED:20221108T105421Z
UID:2098-1668848400-1668875400@sportoveotuzovanie.sk
SUMMARY:2. preteky Orava 19.11.2022
DESCRIPTION:PROPOZÍCIE PRETEKOV Orava – Námestovo \n  \n 
URL:https://sportoveotuzovanie.sk/event/2-preteky-orava-19-11-2022/
LOCATION:Námestovo\, Nábrežie Oravskej priehrady\, Námestovské U-čko\, Amfiteater\, Nábrežie Oravskej priehrady\, Námestovo\, Slovenská republika
ORGANIZER;CN="Otu%C5%BEilci Orava":MAILTO:oravaotuzilci@oravaotuzilci.sk
END:VEVENT
BEGIN:VEVENT
DTSTART;TZID=Europe/Bratislava:20221105T090000
DTEND;TZID=Europe/Bratislava:20221105T163000
DTSTAMP:20260426T050258
CREATED:20221027T050620Z
LAST-MODIFIED:20221101T103514Z
UID:2040-1667638800-1667665800@sportoveotuzovanie.sk
SUMMARY:1. preteky Žilina - Bazén 5.11.2022
DESCRIPTION:  \nPROPOZÍCIE PRETEKOV Žilina
URL:https://sportoveotuzovanie.sk/event/1-preteky-zilina-bazen-5-11-2022/
LOCATION:6P7X+7G Žilina\, Vysokoškolákov 8\, Žilina\, 010 08\, Slovenská republika
END:VEVENT
BEGIN:VEVENT
DTSTART;VALUE=DATE:20220604
DTEND;VALUE=DATE:20220606
DTSTAMP:20260426T050258
CREATED:20220503T082604Z
LAST-MODIFIED:20220503T082604Z
UID:1980-1654300800-1654473599@sportoveotuzovanie.sk
SUMMARY:24hodinovka 2022
DESCRIPTION:https://www.velkavoda.sk/24hodinovka-2022/
URL:https://sportoveotuzovanie.sk/event/24hodinovka-2022/
LOCATION:37XG+7H5 Dunajská Lužná\, Slovakia\, 37XG+7H5 Dunajská Lužná\, Slovakia\, Dunajská Lužná\, Slovenská republika
END:VEVENT
BEGIN:VEVENT
DTSTART;TZID=Europe/Bratislava:20220319T090000
DTEND;TZID=Europe/Bratislava:20220319T163000
DTSTAMP:20260426T050258
CREATED:20211102T043858Z
LAST-MODIFIED:20220313T202722Z
UID:1789-1647680400-1647707400@sportoveotuzovanie.sk
SUMMARY:Dunajská Streda
DESCRIPTION:19.3.2022   3. Pretek Dunajská Streda – THERMALPARK DS \nPrihlásenie na pretek Dunajská Streda \nPropozície preteku \n 
URL:https://sportoveotuzovanie.sk/event/bratislava-zlate-piesky/
LOCATION:Dunajska Streda\, Gabčíkovská cesta 237/38\, Dunajská Streda\, 929 01\, Slovenská republika
ORGANIZER;CN="TopRunDS":MAILTO:toprunds@gmail.com
END:VEVENT
BEGIN:VEVENT
DTSTART;TZID=Europe/Bratislava:20220226T080000
DTEND;TZID=Europe/Bratislava:20220226T170000
DTSTAMP:20260426T050258
CREATED:20211102T042836Z
LAST-MODIFIED:20211102T043148Z
UID:1776-1645862400-1645894800@sportoveotuzovanie.sk
SUMMARY:Domaša - Dobrá
DESCRIPTION:26.2.2022   4. Pretek Domaša – Dobrá   Vranovské Vydry
URL:https://sportoveotuzovanie.sk/event/domasa-dobra/
LOCATION:Domaša – Dobrá\, Domaša\, Slovenská republika
END:VEVENT
BEGIN:VEVENT
DTSTART;VALUE=DATE:20220225
DTEND;VALUE=DATE:20220228
DTSTAMP:20260426T050258
CREATED:20211102T044858Z
LAST-MODIFIED:20211102T044907Z
UID:1798-1645747200-1646006399@sportoveotuzovanie.sk
SUMMARY:Veľký NEVA CUP 2022 Petrohrad Rusko
DESCRIPTION:25.-27.2.2022 Veľký NEVA CUP 2022 Petrohrad Rusko – IWSA
URL:https://sportoveotuzovanie.sk/event/velky-neva-cup-2022-petrohrad-rusko/
LOCATION:Petrohrad\, Petrohrad\, Rusko
END:VEVENT
BEGIN:VEVENT
DTSTART;TZID=Europe/Bratislava:20220212T090000
DTEND;TZID=Europe/Bratislava:20220212T150000
DTSTAMP:20260426T050258
CREATED:20211102T042807Z
LAST-MODIFIED:20220206T092043Z
UID:1773-1644656400-1644678000@sportoveotuzovanie.sk
SUMMARY:Nové Košariská - Dunajská Lužná
DESCRIPTION:12.2.2022   3. Pretek Nové Košariská – Dunajská Lužná – Ľadové medvede Veľká Voda \nPropozicie pretekov_12.02.2022 \nMapka miesta konania \nCovid Opatrenia 12.2.2022 \n \n  \n  \n  \nAhojte Zimní plavci\, Otužilci a Priatelia zimného plávania a otužovania! \nAko sme už avizovali na facebooku\, pristupujeme k organizácii ďalších pretekov. Týmto vás všetkých opätovne pozývame na Slovenský Pohár v Zimnom Plávaní na jazero Nové Košariská (Malé Košariská )\, Dunajská Lužná. \nVeríme\, že sa vám prvé preteky páčili a zdravie nám umožní stretnúť sa opäť. Dnes bola teplota vody 3 stupne – skoro rovnaká ako v Čiernej vode\, takže vieme čo nás čaká. \nTieto preteky je možné vypísať v režime OP\, v prílohe posielame Covid opatrenia podľa najnovšej Vyhlášky č. 5 zo dňa 17. 01. 2022. \nAreál je verejnosti prístupný\, takže nebude len pre nás. My máme k dispozícii priestor Bufetu nad jazerom (registrácia od 9.00 do 10.00 hod)\, terasa (obed pre plavcov)\, dolný bufet (stan ako prezliekareň) a celé vonkajšie prostredie areálu. \nV rámci štartovného 15€ (cena platí aj pre doprovod – tréner\, podpora plavca a pod.\, pokiaľ chce stravu) máte zabezpečené počas trvania pretekov okrem teplého jedla (guláš)\, čaj\, vodu\, jablká. K dispozícii je aj horný bufet s krbom (ďalšie občerstvenie mimo štartovného: teplé\, studené nápoje\, cigánska\, vyprážaný syr a hranolky). Moderátor sa už na vás teší\, počas celého dňa budete fotografovaní skúsenými fotografmi a možno budú aj priaznivé podmienky pre použitie dronu. Na mieste sa ešte budú vyberať 2 € pre rozhodcov. \n  \nPrihlasovanie: prihlasovať na preteky sa dá len online cez webovú stránku www.sportoveotuzovanie.sk. Plavci\, ktorí si zvolili a ktoré zodpovedajú ich vyplávanému výkonnostnému stupňu. Plavci\, ktorí plávali Slovenský pohár v sezóne 2019/2020 sú všetci v systéme nahratí. Znamená to\, že už sa nemusia do systému registrovať. Na ktorých máme e-mailovú adresu\, tým v stredu okolo obeda príde mail s heslom\, ktoré mu bude vygenerované a potom sa môže priamo prihlásiť. Heslo si môže zmeniť. \nPOZOR! Dvaja plavci nemôžu mať jednu e-mailovú adresu! Keďže nie všetky údaje môžu byť správne\, nemáme každého celý dátum narodenia (používali sa len roky narodenia)\, e-mail nebol nikdy údajom potrebným k prihláseniu. Preto je dôležité\, aby si plavec skontroloval všetky údaje vo svojom profile a opravil / doplnil si ich a uložil. Plavci\, ktorí nie sú v systéme\, sa najprv zaregistrujú do systému a následne sa môžu prihlásiť na preteky – je to pomerne intuitívne. Pokiaľ im niečo nepôjde\, môžu vyplniť formulár na stránke programu\, ktorý je pod tlačítkom Kontakt – kontaktné osoby pre program sú: ja Eva Ležovičová a Zoli Makai. Nie vždy môžeme zdvihnúť telefón\, preto využite aj formulár. \nOkrem toho\, vo formulári si môže dotaz prečítať náš IT a môže riešiť problém skôr ako Vás skontaktujeme. Program nám všetkým umožní rýchlejšie spracovanie štartových a výsledkových listín\, zmeny tratí a uľahčí informovanosť\, lebo sú tam nahraté dôležité dokumenty týkajúce sa len Slovenského pohára. Pri týchto pretekoch bude program druhýkrát v plnej prevádzke\, chyby sa dúfame vychytali\, ale ak by sa ešte  vyskytli nejasnosti\, sme pripravení podnety riešiť bezodkladne. Vopred ďakujeme za pochopenie a veríme\, že všetko prebehne hladko a k Vašej spokojnosti. \n  \nParkovanie: priamo nad jazerom \, prírodne\, blato\, tráva\, štrk. Areál je mimo obec 1km od obce Dunajská Lužná. \nxhttps://goo.gl/maps/91wSCAtSBtbnL1yj7 \n  \nCovid situácia: Preteky sa konaju v režime OP (voľnejší režim nie je možné urobiť). Nechceme Vás ani seba vystaviť žiadnemu riziku. Veríme\, že už k ďalším zmenám v tomto ohľade nedôjde. \n  \nZáleží nám na hladkom priebehu pretekov a Vašej spokojnosti preto všetko pripravujeme tak\, aby mali preteky čo najhladší priebeh\, a aby ste si odniesli nezabudnuteľné zážitky. Čo sa dnes už nedá zariadiť\, je počasie\, ale aj v tomto sme optimisti a veríme\, že jazero bude budúcu sobotu bez pokrývky ľadu. V prípade ďalších otázok sme vám plne k dispozícii na telefóne\, či e-mailoch: info@velkavoda.sk mazo@mazo.sk. \nVeríme\, že si prídete zaplávať\, uvidíme sa v čo najväčšom počte (maximálne 100) a preteky prebehnú podľa Vášho očakávania. \n  \nĽadovej vode zdar! Plávaj s nami! \nVáš team Ľadové Medvede Veľká voda a Ada\, Štefan\, Igor\, Lucia \n(Kontakt: Mgr. Andrea Lesková 0903423721)
URL:https://sportoveotuzovanie.sk/event/velka-voda-dunajska-luzna/
LOCATION:37XG+7H5 Dunajská Lužná\, Slovakia\, 37XG+7H5 Dunajská Lužná\, Slovakia\, Dunajská Lužná\, Slovenská republika
END:VEVENT
BEGIN:VEVENT
DTSTART;TZID=Europe/Bratislava:20220129T080000
DTEND;TZID=Europe/Bratislava:20220129T170000
DTSTAMP:20260426T050258
CREATED:20211102T042251Z
LAST-MODIFIED:20220120T191708Z
UID:1766-1643443200-1643475600@sportoveotuzovanie.sk
SUMMARY:Lake Side Residence Čierna voda\, kataster Horná Potôň
DESCRIPTION:Predbežný náhradný termín \n29.1.2022   1. Pretek   Lake Side Residence Čierna voda\, kataster Horná Potôň – VITALE Športovci a Nadšenci \nREGISTRÁCIA \nPRIHLÁSENIE \n*v prípade\, že Váš klub/oddiel/združenie ešte nie je registrované napíšte prosím na plavanie@levita.eu // zoli@sportoveotuzovanie.sk\n(poprosíme uviesť: presný názov\, želanú skratku\, meno priezvisko\, email a telefón vedúcej/ho zoskupenia) // kto ma záujem aj o nesúťažnú 25m trať – prosím prihlásiť sa najprv na túto až potom súťažnú trať – prípadne sa odhlásiť a postup podľa vyššie spomenutého \nZoznam plavcov _OP režim \nCovid opatrenia \nPropozície preteku
URL:https://sportoveotuzovanie.sk/event/piestany-slnava-cierna-voda/
LOCATION:Čierna Voda – Horná Potôň\, 3JP9+96 Horná Potôň\, Horná Potôň\, Slovenská republika
END:VEVENT
BEGIN:VEVENT
DTSTART;VALUE=DATE:20220122
DTEND;VALUE=DATE:20220123
DTSTAMP:20260426T050258
CREATED:20211102T045319Z
LAST-MODIFIED:20211102T045319Z
UID:1804-1642809600-1642895999@sportoveotuzovanie.sk
SUMMARY:22.1.2022   17. IWSA Majstrovstvá Slovenska v ZP v Lotyšsku
DESCRIPTION:22.1.2022 17. IWSA Majstrovstvá Slovenska v ZP v Lotyšsku
URL:https://sportoveotuzovanie.sk/event/22-1-2022-17-iwsa-majstrovstva-slovenska-v-zp-v-lotyssku/
END:VEVENT
BEGIN:VEVENT
DTSTART;VALUE=DATE:20211203
DTEND;VALUE=DATE:20211206
DTSTAMP:20260426T050258
CREATED:20211102T044611Z
LAST-MODIFIED:20211102T044611Z
UID:1795-1638489600-1638748799@sportoveotuzovanie.sk
SUMMARY:Majstrovstvá Európy v ZP Bled Slovinsko
DESCRIPTION:03.-05.12.2022 ME v ZP – IWSA
URL:https://sportoveotuzovanie.sk/event/majstrovstva-europy-v-zp-bled-slovinsko/
LOCATION:Bled\, Bled\, Slovinsko
END:VEVENT
BEGIN:VEVENT
DTSTART;VALUE=DATE:20200328
DTEND;VALUE=DATE:20200329
DTSTAMP:20260426T050258
CREATED:20181031T222042Z
LAST-MODIFIED:20191103T091806Z
UID:1149-1585353600-1585439999@sportoveotuzovanie.sk
SUMMARY:7. kolo Námestovo - záver SP a vyhodnotenie
DESCRIPTION:7. kolo Námestovo \n  \nzáver vyhodnotenie
URL:https://sportoveotuzovanie.sk/event/2-kolo-sp-namestovo/
LOCATION:Námestovo\, Nábrežie Oravskej priehrady\, Námestovské U-čko\, Amfiteater\, Nábrežie Oravskej priehrady\, Námestovo\, Slovenská republika
ORGANIZER;CN="Otu%C5%BEilci Orava":MAILTO:oravaotuzilci@oravaotuzilci.sk
END:VEVENT
BEGIN:VEVENT
DTSTART;VALUE=DATE:20200314
DTEND;VALUE=DATE:20200315
DTSTAMP:20260426T050258
CREATED:20181031T222556Z
LAST-MODIFIED:20200309T083944Z
UID:1157-1584144000-1584230399@sportoveotuzovanie.sk
SUMMARY:6. kolo Senec - zrušené
DESCRIPTION:6. kolo Senec – zrušené
URL:https://sportoveotuzovanie.sk/event/6-kolo-sp-senec/
LOCATION:Senec\, 6C76+V9 Senec\, Senec\, 903 01\, Slovenská republika
END:VEVENT
BEGIN:VEVENT
DTSTART;VALUE=DATE:20200307
DTEND;VALUE=DATE:20200308
DTSTAMP:20260426T050258
CREATED:20181031T222450Z
LAST-MODIFIED:20200128T214101Z
UID:1155-1583539200-1583625599@sportoveotuzovanie.sk
SUMMARY:5. kolo Zlaté Piesky
DESCRIPTION:  \n\n kolo v Bratislave\, areál zdravia Zlaté Piesky  – o Pohár Zlatých pieskov\n\nUsporiadateľ:  Marek Košecký\, Delfíny Zlaté piesky\, Bratislava \nDátum: sobota 7. marca 2020 od 12:15 hod. (prezentácia 9:00 – 11:00\, otvorenie o 11:30) \nMiesto konania: Zlaté piesky\, Bratislava\, areál vodných športov Wakelake (wakelake.sk) \nTieto preteky sú unikátne tým\, že sú súčasne regulárnou súťažou Českého pohára v zimnom plávaní (vyhodnocuje sa samostatne)\, a teda sa  ich zúčastňuje zimnoplavecká špička z ČR a spravidla aj iní zahraniční účastníci (napríklad z Rakúska). \nPropozície 5. kola budú zverejnené na tomto mieste dňa 10.2.2020. \nV rámci Slovenského pohára v zimnom plávaní  (SP vZP) prebehne registrácia na preteky prihlasovaním online od 17.2.2020 do 3.3.2020\, a to cez  webovú stránku Delfínov Zlaté piesky: delfinyZP2019.webnode.sk  Štartovné sa bude platiť vopred na účet.Prihlášky po termíne a  prihlášky na mieste pretekov budú možné\, ale štartovné za ne je vyššie (pozri budúce propozície). \nPri spracovaní prihlášok sa bude kontrolovať \n– oprávnenosť štartu pretekára na príslušnej trati (podľa dosiahnutých výkonnostných  stupňov) \n– pre nových účastníkov SPvZP to\, či majú podpísaný súhlas so spracovaním svojich osobných údajov (GDPR) a ak nie\, bude potrebné podpísať uvedený súhlas v rámci  registrácie\, \n– pre nových plavcov na tratiach 100 m – 1000 m ktorí nie sú evidovaní v žiadnom oddiele\, musí plavec predložiť lekárske potvrdenie svojej zdravotnej spôsobilosti pre šport podľa vzoru na webovej https://sportoveotuzovanie.sk/?page_id=237  \nPlavec/plavkyňa nesmie v zmysle pravidiel SPvZP používať pri súťaži pomôcky chrániace pred chladom  (rukavice\, topánky a pod.) \nAK 200128 \nVšetkých Vás radi privítajú Delfíny Zlaté piesky
URL:https://sportoveotuzovanie.sk/event/5-kolo-sp-zlate-piesky/
LOCATION:Zlaté piesky Wake Lake\, 55QV+PP Bratislava\, Bratislava\, Slovenská republika
ORGANIZER;CN="Delf%C3%ADny Zlat%C3%A9 Piesky":MAILTO:lazioroma666@gmail.com
END:VEVENT
BEGIN:VEVENT
DTSTART;VALUE=DATE:20200203
DTEND;VALUE=DATE:20200210
DTSTAMP:20260426T050258
CREATED:20191103T090549Z
LAST-MODIFIED:20191103T090549Z
UID:1431-1580688000-1581292799@sportoveotuzovanie.sk
SUMMARY:MS v zimnom plávaní BLED 2020
DESCRIPTION:MS v zimnom plávaní BLED 2020
URL:https://sportoveotuzovanie.sk/event/ms-v-zimnom-plavani-bled-2020/
LOCATION:Bled\, Bled\, Slovinsko
END:VEVENT
END:VCALENDAR