BEGIN:VCALENDAR
VERSION:2.0
PRODID:-//Športové otužovanie &amp; Diaľkové plávanie - ECPv6.15.20//NONSGML v1.0//EN
CALSCALE:GREGORIAN
METHOD:PUBLISH
X-WR-CALNAME:Športové otužovanie &amp; Diaľkové plávanie
X-ORIGINAL-URL:https://sportoveotuzovanie.sk
X-WR-CALDESC:Udalosti pre Športové otužovanie &amp; Diaľkové plávanie
REFRESH-INTERVAL;VALUE=DURATION:PT1H
X-Robots-Tag:noindex
X-PUBLISHED-TTL:PT1H
BEGIN:VTIMEZONE
TZID:Europe/Bratislava
BEGIN:DAYLIGHT
TZOFFSETFROM:+0100
TZOFFSETTO:+0200
TZNAME:CEST
DTSTART:20170326T010000
END:DAYLIGHT
BEGIN:STANDARD
TZOFFSETFROM:+0200
TZOFFSETTO:+0100
TZNAME:CET
DTSTART:20171029T010000
END:STANDARD
BEGIN:DAYLIGHT
TZOFFSETFROM:+0100
TZOFFSETTO:+0200
TZNAME:CEST
DTSTART:20180325T010000
END:DAYLIGHT
BEGIN:STANDARD
TZOFFSETFROM:+0200
TZOFFSETTO:+0100
TZNAME:CET
DTSTART:20181028T010000
END:STANDARD
BEGIN:DAYLIGHT
TZOFFSETFROM:+0100
TZOFFSETTO:+0200
TZNAME:CEST
DTSTART:20190331T010000
END:DAYLIGHT
BEGIN:STANDARD
TZOFFSETFROM:+0200
TZOFFSETTO:+0100
TZNAME:CET
DTSTART:20191027T010000
END:STANDARD
BEGIN:DAYLIGHT
TZOFFSETFROM:+0100
TZOFFSETTO:+0200
TZNAME:CEST
DTSTART:20200329T010000
END:DAYLIGHT
BEGIN:STANDARD
TZOFFSETFROM:+0200
TZOFFSETTO:+0100
TZNAME:CET
DTSTART:20201025T010000
END:STANDARD
END:VTIMEZONE
BEGIN:VEVENT
DTSTART;VALUE=DATE:20191130
DTEND;VALUE=DATE:20191201
DTSTAMP:20260426T050258
CREATED:20191103T090142Z
LAST-MODIFIED:20191119T140130Z
UID:1423-1575072000-1575158399@sportoveotuzovanie.sk
SUMMARY:2. kolo Piešťany - Sĺňava
DESCRIPTION:2. kolo Pieštany – Sĺňava \n \nPrihláška \nPropozície \nInformácia o právach dotknutých osôb \nInformácia o poučení a súhlas so spracúvaním OÚ
URL:https://sportoveotuzovanie.sk/event/2-kolo-piestany-slnava/
LOCATION:Sĺňava\, Sĺňava\, Piešťany\, Slovenská republika
ORGANIZER;CN="TBM":MAILTO:tbm@atlas.sk
END:VEVENT
BEGIN:VEVENT
DTSTART;VALUE=DATE:20191116
DTEND;VALUE=DATE:20191117
DTSTAMP:20260426T050258
CREATED:20181015T070621Z
LAST-MODIFIED:20191103T103851Z
UID:1093-1573862400-1573948799@sportoveotuzovanie.sk
SUMMARY:1. kolo Kurinec (pri Rimavskej Sobote)
DESCRIPTION:1. kolo Kurinec (pri Rimavskej Sobote)
URL:https://sportoveotuzovanie.sk/event/kurinec-pri-rimavskej-sobote/
LOCATION:Kurinec\, Kurinec\, Kurinec\, Slovenská republika
END:VEVENT
BEGIN:VEVENT
DTSTART;TZID=Europe/Bratislava:20190412T120000
DTEND;TZID=Europe/Bratislava:20190414T120000
DTSTAMP:20260426T050258
CREATED:20181031T222900Z
LAST-MODIFIED:20190330T203420Z
UID:1161-1555070400-1555243200@sportoveotuzovanie.sk
SUMMARY:7. Kolo SP - Palcmanská maša (Dedinky)
DESCRIPTION:  \n  \n  \n  \n  \n  \n  \n \n  \n  \n  \n  \n  \n  \n  \n  \n  \n  \n  \nProgram Dedinky \nPropozície Dedinky \nPosúdenie zdravotnej spôsobilosti \nPropozície    súťažného podujatia  v zimnom plávaní                \nNázov podujatia:      7. kolo Slovenského pohára v zimnom plávaní  – \n                                                      SLOVENSKÝ RAJ \nOrganizátor:     Klub otužilcov  PSTRUHY SLOVENSKÉHO RAJA  a  TATRANSKÍ OTUŽILCI a CVC ADAM \n  \nMiesto:                                       Palcmanská Maša – Dedinky  / GPS: 48.86415\,20.38002/ \nTermín: a čas podujatia:           12.4.2019 – 13.4.2019 –  14.04. 2019   /2\,5dňa-možnosť ubytovania/            \nTermín: a čas súťaže:                         sobota              13.04. 2019                 čas: 12.00 – 17.00hod. \nTermín zaslania prihlášok:               do pondelka    08.04. 2019                 čas: 24.00hod. \n  \n Adresa na posielanie prihlášok:                                  http://bit.do/dedinky \nKontaktná osoba:                                                       Peter Klein – 0908 068 160                                           Čas a miesto prezentácie plavcov:  od 10.00hod. do 11.30hod. obec Dedinky – Hotel PRIEHRADA                                                                                                                                                                        Podmienky účasti plavcov: \nKrátka trať ( 50 m) –               dobrý aktuálny zdravotný stav -prihláška a  vyplnené Čestné prehlásenie \nTrate 100\,250\,500\,750\,100m           –      príslušnosti k niektorému evidovanému otužileckému klubu \nprihláška  zaslaná vedením klubu potvrdenie o zdravotnom stave \nŠtartovné:                                  9€   pre prihlásených v termíne \n                                                   12€   prihlásenie po termíne\, alebo na mieste súťaže  \nProgram a čas podujatia:  1.deň :  12.4.2019 od12.00 do 18.00 príprava tratí a porada\, ubytovanie \n2.deň :  13.4.2019 – od10.00 do 11.30 registrácia plavcov \n                                                                                  Od 12.00 do 15.00-súťaž-50\,100\,250\,500\,750\,1000m \n                                                                                  Od 15.00 do 15.30 obed \n                                                                                 Od 15.30 do 17.00 vyhodnotenie a tombola \n                               Od 20.00 do 24.00 galavečer\, vyhlásenie výsledkov SP \n                                                3.deň :  14.4.2019 od 8.00 do 12.00 plávanie\, turistika\, obed- záver akcie \nTechnické ustanovenia: \n\nSúťaží sa podľa:      Pravidiel zimného plávania\, Súťažného poriadku a Propozícií podujatia\nSystém súťaže:       súťaž jednotlivcov a súťaž klubov\n\notvorené podujatie  – súťaže na trati  50 metrov sa môžu zúčastniť aj \nneevidovaní otužilci\, ktorí sa prihlásia na mieste súťaže\, vyplnia  formulár \nČestné prehlásenie a uhradia štartovné 12€ \n\nSúťažné trate:      –   krátka 50 metrov – plavecký spôsob prsia  otvorené podujatie\n\n–   štandardné 100\, 250\, 500\, 750 a 1000 m-voľný štýl len registrovaný plavci \n\nSúťažné kategórie:    muži\, ženy\, vekové kategórie dve:  do 50 rokov a nad 50 rokov \nPovolená výbava plavca: štandardné plavky\, plavecká čiapka-neoprénová\, plavecké okuliare\nPredpokladaná teplota vody: 4  °C\nVyhodnotenie:   stanovenie poradia v jednotlivých disciplínach podľa dosiahnutého času\,\n\nvýpočet bodovej hodnoty pre započítanie so Slovenského pohára v ZP\, \n                                    -Pohár predsedu KSK\, Pohár primatora SNV\, Pohár starostky Smižian \nPoznámka:                Záujem o ubytovanie je potrebné nahlásiť v Prihláške –  ubytovanie\, uviesť                                       počet osôb\, počet  prenocovaní /napr. osoba\,1x noc-príchod 12.4.2019/……info: 0908 068 160 \nCENNÍK UBYTOVANIA \,\,HOTEL PRIEHRADA\,\,:         2osoby/1xnoc+raňajky/……………..34 EUR \n3osoby-/1xnoc+raňajky/…………….51 EUR \n4osoby-/1xnoc+raňajky/……………..62 EUR
URL:https://sportoveotuzovanie.sk/event/8-kolo-sp-palcmanska-masa-dedinky/
LOCATION:Palcmanská maša\, Dedinky\, Slovenská republika
END:VEVENT
BEGIN:VEVENT
DTSTART;VALUE=DATE:20190324
DTEND;VALUE=DATE:20190325
DTSTAMP:20260426T050258
CREATED:20181031T230729Z
LAST-MODIFIED:20181031T230729Z
UID:1205-1553385600-1553471999@sportoveotuzovanie.sk
SUMMARY:Gabčíkovo
DESCRIPTION:Dunaj – tok \n500\, 1000m
URL:https://sportoveotuzovanie.sk/event/gabcikovo-2/
LOCATION:Gabčíkovo\, Gabčíkovo\, Slovenská republika
END:VEVENT
BEGIN:VEVENT
DTSTART;VALUE=DATE:20190323
DTEND;VALUE=DATE:20190324
DTSTAMP:20260426T050258
CREATED:20181031T222709Z
LAST-MODIFIED:20190330T202644Z
UID:1159-1553299200-1553385599@sportoveotuzovanie.sk
SUMMARY:6. Kolo SP - Domaša
DESCRIPTION:
URL:https://sportoveotuzovanie.sk/event/7-kolo-sp-domasa/
LOCATION:Domaša\, Slovenská republika
END:VEVENT
BEGIN:VEVENT
DTSTART;VALUE=DATE:20190316
DTEND;VALUE=DATE:20190317
DTSTAMP:20260426T050258
CREATED:20181031T230621Z
LAST-MODIFIED:20181031T230621Z
UID:1203-1552694400-1552780799@sportoveotuzovanie.sk
SUMMARY:Košice 9. ročník
DESCRIPTION:
URL:https://sportoveotuzovanie.sk/event/kosice-9-rocnik/
LOCATION:Košice Nad Jazerom\, Baltická\, Košice\, Slovenská republika
END:VEVENT
BEGIN:VEVENT
DTSTART;VALUE=DATE:20190310
DTEND;VALUE=DATE:20190311
DTSTAMP:20260426T050258
CREATED:20181031T230508Z
LAST-MODIFIED:20181031T230508Z
UID:1200-1552176000-1552262399@sportoveotuzovanie.sk
SUMMARY:MDŽ - Dunajská Lužná
DESCRIPTION:500\, 1000m
URL:https://sportoveotuzovanie.sk/event/mdz-dunajska-luzna-2/
LOCATION:Dunajská Lužná\, Košariská\, Dunajská Lužná\, 900 42\, Slovenská republika
END:VEVENT
BEGIN:VEVENT
DTSTART;VALUE=DATE:20190310
DTEND;VALUE=DATE:20190311
DTSTAMP:20260426T050258
CREATED:20181031T230157Z
LAST-MODIFIED:20181031T230210Z
UID:1196-1552176000-1552262399@sportoveotuzovanie.sk
SUMMARY:Žiar nad Hronom - Bejvoč
DESCRIPTION:250\, 1000 m
URL:https://sportoveotuzovanie.sk/event/ziar-nad-hronom-bejvoc/
LOCATION:Bejvoč
END:VEVENT
BEGIN:VEVENT
DTSTART;TZID=Europe/Bratislava:20190303T080000
DTEND;TZID=Europe/Bratislava:20190303T170000
DTSTAMP:20260426T050258
CREATED:20181031T225405Z
LAST-MODIFIED:20181031T225405Z
UID:1194-1551600000-1551632400@sportoveotuzovanie.sk
SUMMARY:Športový otužilec
DESCRIPTION:500 m trať na čas
URL:https://sportoveotuzovanie.sk/event/sportovy-otuzilec/
LOCATION:Zlaté Piesky Vodník\, Zlaté Piesky u Zlatého Vodníka\, Bratislava\, Slovenská republika
END:VEVENT
BEGIN:VEVENT
DTSTART;VALUE=DATE:20190224
DTEND;VALUE=DATE:20190225
DTSTAMP:20260426T050258
CREATED:20181031T224812Z
LAST-MODIFIED:20181031T224812Z
UID:1187-1550966400-1551052799@sportoveotuzovanie.sk
SUMMARY:Hamuliakovo
DESCRIPTION:Dunaj – tok \n500\, 1000m \n 
URL:https://sportoveotuzovanie.sk/event/hamuliakovo/
LOCATION:Hamuliakovo\, Hamuliakovo
END:VEVENT
BEGIN:VEVENT
DTSTART;VALUE=DATE:20190223
DTEND;VALUE=DATE:20190224
DTSTAMP:20260426T050258
CREATED:20181031T224634Z
LAST-MODIFIED:20181031T224935Z
UID:1184-1550880000-1550966399@sportoveotuzovanie.sk
SUMMARY:Šala
DESCRIPTION:Váh – tok \n500 – 1000m
URL:https://sportoveotuzovanie.sk/event/sala-2/
LOCATION:Šala\, Slovenská republika
END:VEVENT
BEGIN:VEVENT
DTSTART;VALUE=DATE:20190217
DTEND;VALUE=DATE:20190218
DTSTAMP:20260426T050258
CREATED:20181031T224527Z
LAST-MODIFIED:20181031T224527Z
UID:1180-1550361600-1550447999@sportoveotuzovanie.sk
SUMMARY:Kolárovo
DESCRIPTION:Váh – tok \n100 – 1000m
URL:https://sportoveotuzovanie.sk/event/kolarovo-2/
LOCATION:Kolárovo\, Kolárovo\, Slovenská republika
END:VEVENT
BEGIN:VEVENT
DTSTART;TZID=Europe/Bratislava:20190216T080000
DTEND;TZID=Europe/Bratislava:20190216T170000
DTSTAMP:20260426T050258
CREATED:20181031T224341Z
LAST-MODIFIED:20181031T224341Z
UID:1176-1550304000-1550336400@sportoveotuzovanie.sk
SUMMARY:Banská Štiavnica  - Klinger
DESCRIPTION:stojatá voda časový pobyt
URL:https://sportoveotuzovanie.sk/event/banska-stiavnica-klinger/
LOCATION:Klinger\, Slovenská republika
END:VEVENT
BEGIN:VEVENT
DTSTART;VALUE=DATE:20190210
DTEND;VALUE=DATE:20190211
DTSTAMP:20260426T050258
CREATED:20181031T224206Z
LAST-MODIFIED:20181031T224206Z
UID:1174-1549756800-1549843199@sportoveotuzovanie.sk
SUMMARY:Žilina
DESCRIPTION:Váh – tok
URL:https://sportoveotuzovanie.sk/event/zilina-2/
ORGANIZER;CN="Tu%C4%8Dniaky %C5%BDilina":MAILTO:tucniaky.zilina@gmail.com
END:VEVENT
BEGIN:VEVENT
DTSTART;VALUE=DATE:20190127
DTEND;VALUE=DATE:20190128
DTSTAMP:20260426T050258
CREATED:20181031T224057Z
LAST-MODIFIED:20181031T224057Z
UID:1172-1548547200-1548633599@sportoveotuzovanie.sk
SUMMARY:Devín
DESCRIPTION:Morava – tok \n250\, 500\, 1000m
URL:https://sportoveotuzovanie.sk/event/devin/
LOCATION:Devín\, Slovanské Nábrežie\, Devín\, Slovenská republika
END:VEVENT
BEGIN:VEVENT
DTSTART;VALUE=DATE:20190120
DTEND;VALUE=DATE:20190121
DTSTAMP:20260426T050258
CREATED:20181031T223935Z
LAST-MODIFIED:20181031T223935Z
UID:1169-1547942400-1548028799@sportoveotuzovanie.sk
SUMMARY:Nitra
DESCRIPTION:
URL:https://sportoveotuzovanie.sk/event/nitra-2/
LOCATION:Nitra\, Nitra\, Slovenská republika
END:VEVENT
BEGIN:VEVENT
DTSTART;VALUE=DATE:20190113
DTEND;VALUE=DATE:20190114
DTSTAMP:20260426T050258
CREATED:20181031T223827Z
LAST-MODIFIED:20181031T223827Z
UID:1167-1547337600-1547423999@sportoveotuzovanie.sk
SUMMARY:Bratislava - Dunaj Memoriál Jozefa Makaia
DESCRIPTION:20. ročník \n100m\, 1000m – tok\, 2x\, 1x cez tok
URL:https://sportoveotuzovanie.sk/event/bratislava-dunaj-memorial-jozefa-makaia/
END:VEVENT
BEGIN:VEVENT
DTSTART;VALUE=DATE:20190106
DTEND;VALUE=DATE:20190107
DTSTAMP:20260426T050258
CREATED:20181031T223704Z
LAST-MODIFIED:20181031T223704Z
UID:1164-1546732800-1546819199@sportoveotuzovanie.sk
SUMMARY:Senec - Trojkráľový
DESCRIPTION:
URL:https://sportoveotuzovanie.sk/event/senec-trojkralovy-2/
LOCATION:Hotel SENEC****\, Slnečné jazerá - sever\, Senec\, 903 01\, Slovenská republika
END:VEVENT
BEGIN:VEVENT
DTSTART;VALUE=DATE:20181224
DTEND;VALUE=DATE:20181225
DTSTAMP:20260426T050258
CREATED:20181031T225255Z
LAST-MODIFIED:20181031T225255Z
UID:1192-1545609600-1545695999@sportoveotuzovanie.sk
SUMMARY:Bratislava Zlaté Piesky - Krst členov
DESCRIPTION:
URL:https://sportoveotuzovanie.sk/event/bratislava-zlate-piesky-krst-clenov/
LOCATION:Zlaté Piesky Vodník\, Zlaté Piesky u Zlatého Vodníka\, Bratislava\, Slovenská republika
END:VEVENT
BEGIN:VEVENT
DTSTART;VALUE=DATE:20181216
DTEND;VALUE=DATE:20181217
DTSTAMP:20260426T050258
CREATED:20181031T225146Z
LAST-MODIFIED:20181210T124815Z
UID:1190-1544918400-1545004799@sportoveotuzovanie.sk
SUMMARY:Dunajská Streda
DESCRIPTION:Pozvánka Dunajská Streda
URL:https://sportoveotuzovanie.sk/event/dunajska-streda-2/
LOCATION:Dunajska Streda\, Gabčíkovská cesta 237/38\, Dunajská Streda\, 929 01\, Slovenská republika
END:VEVENT
BEGIN:VEVENT
DTSTART;VALUE=DATE:20181208
DTEND;VALUE=DATE:20181209
DTSTAMP:20260426T050258
CREATED:20181031T222211Z
LAST-MODIFIED:20181130T124049Z
UID:1151-1544227200-1544313599@sportoveotuzovanie.sk
SUMMARY:3. Kolo SP - Šútovo
DESCRIPTION:Obrázok v plnom rozlíšení  Šútovo.jpg
URL:https://sportoveotuzovanie.sk/event/3-kolo-sp-sutovo/
LOCATION:Kraľovanské Jazero\, Kraľovany\, Kraľovanské Jazero\, Kraľovany\, Slovenská republika
END:VEVENT
BEGIN:VEVENT
DTSTART;VALUE=DATE:20181202
DTEND;VALUE=DATE:20181203
DTSTAMP:20260426T050258
CREATED:20181031T221452Z
LAST-MODIFIED:20181126T121031Z
UID:1143-1543708800-1543795199@sportoveotuzovanie.sk
SUMMARY:Krásno n. Kysucou - zrušené
DESCRIPTION:Vážení priatelia zimného plávania\, Krasňanské mrože s poľutovaním vám oznamujú\, že zimné plávanie z 2.12.2018 sa z technických príčin nebude konať.
URL:https://sportoveotuzovanie.sk/event/krasno-n-kysucou/
LOCATION:Krásno nad Kysucou\, Krásno nad Kysucou\, Slovenská republika
END:VEVENT
BEGIN:VEVENT
DTSTART;VALUE=DATE:20181125
DTEND;VALUE=DATE:20181126
DTSTAMP:20260426T050258
CREATED:20181031T221307Z
LAST-MODIFIED:20181031T221307Z
UID:1140-1543104000-1543190399@sportoveotuzovanie.sk
SUMMARY:Štiavnické Bane
DESCRIPTION:
URL:https://sportoveotuzovanie.sk/event/stiavnicke-bane-2/
LOCATION:Štiavnické Bane\, Štiavnické Bane\, Slovenská republika
END:VEVENT
BEGIN:VEVENT
DTSTART;VALUE=DATE:20181118
DTEND;VALUE=DATE:20181119
DTSTAMP:20260426T050258
CREATED:20181031T221132Z
LAST-MODIFIED:20181031T221132Z
UID:1138-1542499200-1542585599@sportoveotuzovanie.sk
SUMMARY:Dolné Dubové
DESCRIPTION:
URL:https://sportoveotuzovanie.sk/event/dolne-dubove/
LOCATION:Dolné Dubové\, Dolné Dubové\, Dolné Dubove\, Slovenská republika
ORGANIZER;CN="TBM":MAILTO:tbm@atlas.sk
END:VEVENT
BEGIN:VEVENT
DTSTART;VALUE=DATE:20181104
DTEND;VALUE=DATE:20181105
DTSTAMP:20260426T050258
CREATED:20181031T221027Z
LAST-MODIFIED:20181031T221027Z
UID:1136-1541289600-1541375999@sportoveotuzovanie.sk
SUMMARY:Nemečky
DESCRIPTION:250-1000 m
URL:https://sportoveotuzovanie.sk/event/nemecky-2/
LOCATION:Nemečky\, Nemečky\, Nemečky\, Slovenská republika
END:VEVENT
BEGIN:VEVENT
DTSTART;TZID=Europe/Bratislava:20181015T000000
DTEND;TZID=Europe/Bratislava:20181015T000000
DTSTAMP:20260426T050258
CREATED:20181015T071338Z
LAST-MODIFIED:20181015T071338Z
UID:1097-1539561600-1539561600@sportoveotuzovanie.sk
SUMMARY:Námestovo
DESCRIPTION:2. kolo
URL:https://sportoveotuzovanie.sk/event/namestovo/
LOCATION:Námestovo\, Nábrežie Oravskej priehrady\, Námestovské U-čko\, Amfiteater\, Nábrežie Oravskej priehrady\, Námestovo\, Slovenská republika
ORGANIZER;CN="Otu%C5%BEilci Orava":MAILTO:oravaotuzilci@oravaotuzilci.sk
END:VEVENT
BEGIN:VEVENT
DTSTART;TZID=Europe/Bratislava:20180415T120000
DTEND;TZID=Europe/Bratislava:20180415T160000
DTSTAMP:20260426T050258
CREATED:20180409T060722Z
LAST-MODIFIED:20180409T061052Z
UID:918-1523793600-1523808000@sportoveotuzovanie.sk
SUMMARY:3. kolo súťaže zimných plavcov - Kráľovany
DESCRIPTION:Kraľovanské – propozície \nUsporiadateľ:\nJozef Repčík\, Tučniaky Ţilina\, Ladislav Lenceš\, Turčianske nanuky \nMiesto konania:\nKráľovanské jazero (miestne názvy Šútovské jazero\, jazero Rieka) \nDátum:\nnedeľa\, 15. apríla\, 2018 o 12.00 \nPrihlášky (termín):\ndo pondelka 9. apríla 2018\, do 24.00 \nAdresa: tucniaky.zilina@gmail.com\nPodmienky účasti plavcov: prihláška v stanovenom termíne\, \nŠtartovné: 8 € – 1 trať\n13 € – 2 trate \nInformácie: Jozef Repčík\,\, 0904 366 192\, tucniaky.zilina@gmail.com \nB) Technické ustanovenia\nDĺžka tratí: 50 m\, 100 m\, 250 m\, 500 m\, (mimo SP aj 750 a 1000m) \nCharakter tratí: stojatá voda\nŠtart a cieľ: 50 m štart a cieľ oddelene\n100\, 250\, 500\, 750 a 1000m štart a cieľ v jednom mieste\nPrezentácia: Kráľovanské jazero 9.30 – 11:00\nCeny: Každá trať prví 3 ženy\, muži diplomy\nGPS: 49.1531136 N\, 19.0966333 E\nParkovanie: priamo pri jazere\nČasový harmonogram: 9.30 – 11.00 Prezentácia\n11.30 Nástup\, privítanie\, technické pokyny\n12.00 Štart na 50 m prsia\n12.30 Štart na 100 m\n13.00 Štart na 250 m\n13:30 Štart na 500 m\n14:00 Štart na 750 m\n14.15 Štart na 1000 m\n15:00 Vyhlásenie výsledkov\nČasový harmonogram môţe byť upravený podľa počtu plavcov a rozplavieb.
URL:https://sportoveotuzovanie.sk/event/3-kolo-sutaze-zimnych-plavcov-kralovany/
LOCATION:Kraľovanské Jazero\, Kraľovany\, Kraľovanské Jazero\, Kraľovany\, Slovenská republika
END:VEVENT
BEGIN:VEVENT
DTSTART;TZID=Europe/Bratislava:20180408T130000
DTEND;TZID=Europe/Bratislava:20180408T140000
DTSTAMP:20260426T050258
CREATED:20171101T220306Z
LAST-MODIFIED:20171101T220306Z
UID:693-1523192400-1523196000@sportoveotuzovanie.sk
SUMMARY:Lido 2018 - Rozlúčka so sezónou 2017-2018
DESCRIPTION:Plávanie v Dunaji pri pravom brehu k bývalému Lidu.
URL:https://sportoveotuzovanie.sk/event/lido-2018-rozlucka-so-sezonou-2017-2018/
LOCATION:Lido\, Lido\, Bratislava
END:VEVENT
BEGIN:VEVENT
DTSTART;TZID=Europe/Bratislava:20180324T080000
DTEND;TZID=Europe/Bratislava:20180324T160000
DTSTAMP:20260426T050258
CREATED:20170719T085500Z
LAST-MODIFIED:20200124T210221Z
UID:204-1521878400-1521907200@sportoveotuzovanie.sk
SUMMARY:Slovenský pohár  3.ročník o pohár Zlatých pieskov
DESCRIPTION:Pozývame Vás na ďalšie 5. kolo Slovenského pohára v zimnom plávaní. Využite možnosť pomerať svoje sily nielen so SVK zimnými plavcami ale aj špičkou Českého pohára a ďalšími zahraničnými účastníkmi alebo len prídite povzbudiť kamarátov v úsilí vyhrať nielen nad súpermi ale aj samých nad sebou v tomto extrémnom športe na medzinárodnej úrovni. Tešíme sa na každého aktívneho plavca aj jeho doprovod\,fanclub a radových divákov. \nDávame mesiac pred pretekmi SP 7.3. na Zlatých pieskoch na známosť\,ide o medzinárodné preteky kde sa bude dodržiavať zákon o športe a etický a morálny kódex\,bude prítomná aj štátna polícia: \n!!! Dodržte čas registrácie\,po 11:00 sa už nebude dať prihlásiť!!! \no 12:15 bude odštartovaná prvá disciplína Slovenského pohára 50m prsiami \n1.prihlásiť sa dá jedine vyplnením prihl.formulára na stránke Delfínov\nhttp://delfinyzp2019.webnode.sk \n\n2.  bude sa vyžadovať lekárske potvrdenie  podla vzoru ktorý je uvedený na stránke https://sportoveotuzovanie.sk/?page_id=31 (posudenie zdravotnej spôsobilosti na šport) nasledovne: \n\n a) od neregistrovaných plavcov na všetky trate 50\,100\,250\,500\,750\,1000m\n\n\n \n\n\nb) od registrovaných ktorí ešte túto sezónu neodovzdali na predošlých pretekoch SP\n\n\n \n\n\nKto nebude mať tento doklad nebude zaregistrovaný a nebude pusteny na štart.\n\nLekárska prehliadka Vám platí 12 mesiacov takže aj do ďalšej zimnej sezóny 2018/2019 na všetky podujatia kde ju budú vyžadovať.(nestratit ju) \n3.bude sa pri prezentácii podpisovať prehlásenie uvedené v dokumentoch na stránke https://sportoveotuzovanie.sk takisto kto nepodpíše nebude štartovať \n4. všetci plavci môže ísť jednu trať \,štartovné je 15 eur) \,nebude sa na nikoho čakať na štarte\,štarty sú v pláne s dostatočným odstupom.do SP sa počíta odplavana trať od 50m  po 1km . \n5.na štart budú pusteny len plavci v plavkách (žiadne bez sa u nas nekoná\,ani neskusajte\,bude prítomná statna polícia)\nsamozrejme povolená je plavecká čiapka silikonova pripadne neoprenova(jedina povolena neoprenova časť plavca kedze na zatylku je termoregulacne centrum a podchladenie je neziaduce)ale v marci zrejme nebude treba\,stuple do uší a plavecké okuliare\,pripadne topanky do vody zase nie neoprenove! \n\nVšetkých pozývame prísť si zmerať sily zo slovenskou\,českou\,rakúskou\, poľskou\,tureckou zimnoplaveckou špičkou a ďalšími plavcami z ruska atď…  účastníkmi budú špičkový zimný aj diaľkový plavci\,pokoritelia Ľadovej míle (muži aj ženy\,vrátane svetových rekordérok)\,majsterky sveta v zimnom plávaní\,účastníci niekolkých majstrovstiev sveta v zp\,pokoritelia kanálov Gibraltár a LaManche (žena aj muži ) \,najlepší SVK zimný plavci tesne po návrate z MS v Talline\,pokoritelia aj rekordér SVK v Ľadovej míli\,pokoritelia aj rekordér SVK v preplavbe Gibraltáru\,pokoritel LaManche Zoli Makai……atď… určite sa oplatí príst skúsit si zaplávat si s nimi\,podporit alebo len pozrieť sa na majstrov svojho umenia. \nVšetkých Vás radi privítajú Delfíny Zlaté piesky \nhttps://www.facebook.com/events/1932932070313736/?acontext=%7B“ref“%3A“22″%2C“feed_story_type“%3A“22″%2C“action_history“%3A“null“%7D&pnref=story \nhttps://www.facebook.com/marek.kosecky.3/videos/1335256993197181/?hc_ref=ARS2TH9hrctu1qTmvDIF0Qk1ThbYH9GJ9iBaIPF83ak7kErJrWZr8AC62_rAv3s8UJU
URL:https://sportoveotuzovanie.sk/event/3-rocnik-o-pohar-zlatych-pieskovvideo-zo-startu-1km-cp-na-zp-2017/
ORGANIZER;CN="Delf%C3%ADny Zlat%C3%A9 Piesky":MAILTO:lazioroma666@gmail.com
END:VEVENT
BEGIN:VEVENT
DTSTART;VALUE=DATE:20180317
DTEND;VALUE=DATE:20180319
DTSTAMP:20260426T050258
CREATED:20171101T215355Z
LAST-MODIFIED:20171101T215355Z
UID:678-1521327600-1521413999@sportoveotuzovanie.sk
SUMMARY:Gabčíkovo
DESCRIPTION:Dunaj – tok 500\, 1000m
URL:https://sportoveotuzovanie.sk/event/gabcikovo/
END:VEVENT
END:VCALENDAR